BEGIN:VCALENDAR
VERSION:2.0
PRODID:-//Ashtanga Yoga Room - ECPv6.15.20//NONSGML v1.0//EN
CALSCALE:GREGORIAN
METHOD:PUBLISH
X-WR-CALNAME:Ashtanga Yoga Room
X-ORIGINAL-URL:https://ashtangayogaroom.com
X-WR-CALDESC:Events for Ashtanga Yoga Room
REFRESH-INTERVAL;VALUE=DURATION:PT1H
X-Robots-Tag:noindex
X-PUBLISHED-TTL:PT1H
BEGIN:VTIMEZONE
TZID:UTC
BEGIN:STANDARD
TZOFFSETFROM:+0000
TZOFFSETTO:+0000
TZNAME:UTC
DTSTART:20170101T000000
END:STANDARD
END:VTIMEZONE
BEGIN:VEVENT
DTSTART;TZID=UTC:20180422T120000
DTEND;TZID=UTC:20180422T140000
DTSTAMP:20260424T195101
CREATED:20180402T091230Z
LAST-MODIFIED:20180421T005632Z
UID:2179-1524398400-1524405600@ashtangayogaroom.com
SUMMARY:Free Ashtanga Yoga Workshop & Demo!
DESCRIPTION:This workshop will educate and teach.\n\n*Understand what traditional ashtanga yoga is from a teacher with 23 years of experience\n*Learn why it is the ultimate style for one-on-one instruction and the best style for beginners or aging practitioner\n*Learn the fundamentals of the practice and the correct alignment and sequencing of the standing poses and Primary series. \n\n\nFollowing the WS\, a 30min demonstration will allow you to observe both the meditative and physical components of the practice in action and witness the main principles of the practice first hand.\n\nThere will be time for Q&A following.\n\nReserve your free spot now: shoot us an email giselle@ashtangayogaroom.com with your first and last name and we will add you to the list! Or through our Mind Body Link under Trainings & Workshops!\n\n\nWe’re also doing a New Student Special for Locals! \n$30 for a 30 Day Membership to Ashtanga Yoga Room!
URL:https://ashtangayogaroom.com/event/free-ashtanga-yoga-workshop-demo/
LOCATION:Ashtanga Yoga Room\, 2521 Jena St.\, New Orleans\, LA\, 70115\, United States
CATEGORIES:Special Events
ATTACH;FMTTYPE=image/jpeg:https://ashtangayogaroom.com/wp-content/uploads/2018/04/DSC_8415WEB.jpg
END:VEVENT
BEGIN:VEVENT
DTSTART;TZID=UTC:20180415T090000
DTEND;TZID=UTC:20180415T104500
DTSTAMP:20260424T195101
CREATED:20180310T233706Z
LAST-MODIFIED:20180326T232934Z
UID:2139-1523782800-1523789100@ashtangayogaroom.com
SUMMARY:Druminyasa
DESCRIPTION:Drumming was the earliest form of tribal communication and has been used to celebrate significant ceremonial gatherings in many primitive cultures. The beat of the drums can be used to call in good energy\, remove bad energy and put one’s mind\, body and spirit in a hypnotic and meditative state. Feel the vibrations of the drums as you connect breath\, heartbeat\, mind & body to your practice. \n***Only a certain # of spots available!! $25 for drop-in; $15 for regular class package holders (sign up at studio); special priced packages not included such as “new student special” & “groupons”; all students must sign up for this unique class to participate.*** \n\n\n\n\n\n\n\n\n\n\n\n\n\n\n\n\n\n\n\n Note: Our regular class passes are not valid for this special class.\n\n\n\n\n\n\n\n\n\n\n\n\n\n\n\n\n\n\n\nBrad Ellsworth  \nFeatured by The Washington Times\, CBS\, and Washington’s WTOP news\, Brad Ellsworth of Druminyasa® has been playing drums and percussion for over 25 years. Brad is a yoga teacher and founded Druminyasa by connecting his love for rhythm\, drums and movement. \n  \n  \n  \n  \n  \n \nMelanie Fawer  \nFounder and director of Ashtanga Yoga Room\, has been teaching traditional Ashtanga yoga for over 20 years. Her teaching is grounded in Indian yoga lineage\, daily practice\, daily teaching\, anatomy\, psychology and the subtle bodies or chakra system. \n  \n  \n  \n  \n  \n  \n  \nWhat is Full Vinyasa: \nFull Vinyasa means to return to Samastithi from down dog (like in Sun\nSalutation A) when jumping back between seated poses rather then jumping back to\nsitting. Once in Samastithi\, the practitioner then goes through Sun Salutation A to return\nto the next sitting posture (from down dog.) \n  \nCost: $25 for drop-in; $15 for regular class package holders (sign up at studio);\nspecial priced packages not included such as “new student special” & “groupons”; all students must sign up\nfor this unique class to participate.
URL:https://ashtangayogaroom.com/event/druminyasa/
LOCATION:Ashtanga Yoga Room\, 2521 Jena St.\, New Orleans\, LA\, 70115\, United States
CATEGORIES:Special Events
END:VEVENT
BEGIN:VEVENT
DTSTART;TZID=UTC:20180407T140000
DTEND;TZID=UTC:20180407T153000
DTSTAMP:20260424T195101
CREATED:20180402T083915Z
LAST-MODIFIED:20180402T083915Z
UID:2176-1523109600-1523115000@ashtangayogaroom.com
SUMMARY:Free Ashtanga Yoga Class!!!
DESCRIPTION:This Class will educate and teach. \n\nUnderstand what traditional ashtanga yoga is from a teacher with 23 years of experience\n\n\nLearn why it is the ultimate style for one-on-one instruction and the best style for beginners or aging practitioner\n\n\nLearn the fundamentals of the practice and the correct alignment and sequencing of the standing poses and Primary series.\n\nSign up through our Mind Body link\, and reserve your spot today! \nWe’re also doing a New Student Special! \n$30 for a 30 Day Membership to Ashtanga Yoga Room! \n*Valid for New Local Student Only*
URL:https://ashtangayogaroom.com/event/free-ashtanga-yoga-class/
LOCATION:Ashtanga Yoga Room\, 2521 Jena St.\, New Orleans\, LA\, 70115\, United States
CATEGORIES:Special Events
ATTACH;FMTTYPE=image/jpeg:https://ashtangayogaroom.com/wp-content/uploads/2018/04/Free-Ashtanga-Yoga-Class.jpg
END:VEVENT
END:VCALENDAR